BEGIN:VCALENDAR
VERSION:2.0
PRODID:-//Les VERT·E·S Seeland-Bienne - ECPv6.15.15//NONSGML v1.0//EN
CALSCALE:GREGORIAN
METHOD:PUBLISH
X-WR-CALNAME:Les VERT·E·S Seeland-Bienne
X-ORIGINAL-URL:https://verts-seeland-bienne.ch
X-WR-CALDESC:Évènements pour Les VERT·E·S Seeland-Bienne
REFRESH-INTERVAL;VALUE=DURATION:PT1H
X-Robots-Tag:noindex
X-PUBLISHED-TTL:PT1H
BEGIN:VTIMEZONE
TZID:Europe/Zurich
BEGIN:DAYLIGHT
TZOFFSETFROM:+0100
TZOFFSETTO:+0200
TZNAME:CEST
DTSTART:20180325T010000
END:DAYLIGHT
BEGIN:STANDARD
TZOFFSETFROM:+0200
TZOFFSETTO:+0100
TZNAME:CET
DTSTART:20181028T010000
END:STANDARD
BEGIN:DAYLIGHT
TZOFFSETFROM:+0100
TZOFFSETTO:+0200
TZNAME:CEST
DTSTART:20190331T010000
END:DAYLIGHT
BEGIN:STANDARD
TZOFFSETFROM:+0200
TZOFFSETTO:+0100
TZNAME:CET
DTSTART:20191027T010000
END:STANDARD
BEGIN:DAYLIGHT
TZOFFSETFROM:+0100
TZOFFSETTO:+0200
TZNAME:CEST
DTSTART:20200329T010000
END:DAYLIGHT
BEGIN:STANDARD
TZOFFSETFROM:+0200
TZOFFSETTO:+0100
TZNAME:CET
DTSTART:20201025T010000
END:STANDARD
END:VTIMEZONE
BEGIN:VEVENT
DTSTART;TZID=Europe/Zurich:20191211T120000
DTEND;TZID=Europe/Zurich:20191211T130000
DTSTAMP:20260421T101204
CREATED:20181207T111313Z
LAST-MODIFIED:20181207T111313Z
UID:520-1576065600-1576069200@verts-seeland-bienne.ch
SUMMARY:Klimastreik
DESCRIPTION:
URL:https://verts-seeland-bienne.ch/event/klima-streik
LOCATION:Bundesplatz Bern
CATEGORIES:Évènements,Kundgebung
END:VEVENT
END:VCALENDAR