BEGIN:VCALENDAR
VERSION:2.0
PRODID:-//Les VERT·E·S Seeland-Bienne - ECPv6.15.15//NONSGML v1.0//EN
CALSCALE:GREGORIAN
METHOD:PUBLISH
X-WR-CALNAME:Les VERT·E·S Seeland-Bienne
X-ORIGINAL-URL:https://verts-seeland-bienne.ch
X-WR-CALDESC:Évènements pour Les VERT·E·S Seeland-Bienne
REFRESH-INTERVAL;VALUE=DURATION:PT1H
X-Robots-Tag:noindex
X-PUBLISHED-TTL:PT1H
BEGIN:VTIMEZONE
TZID:Europe/Zurich
BEGIN:DAYLIGHT
TZOFFSETFROM:+0100
TZOFFSETTO:+0200
TZNAME:CEST
DTSTART:20250330T010000
END:DAYLIGHT
BEGIN:STANDARD
TZOFFSETFROM:+0200
TZOFFSETTO:+0100
TZNAME:CET
DTSTART:20251026T010000
END:STANDARD
BEGIN:DAYLIGHT
TZOFFSETFROM:+0100
TZOFFSETTO:+0200
TZNAME:CEST
DTSTART:20260329T010000
END:DAYLIGHT
BEGIN:STANDARD
TZOFFSETFROM:+0200
TZOFFSETTO:+0100
TZNAME:CET
DTSTART:20261025T010000
END:STANDARD
BEGIN:DAYLIGHT
TZOFFSETFROM:+0100
TZOFFSETTO:+0200
TZNAME:CEST
DTSTART:20270328T010000
END:DAYLIGHT
BEGIN:STANDARD
TZOFFSETFROM:+0200
TZOFFSETTO:+0100
TZNAME:CET
DTSTART:20271031T010000
END:STANDARD
END:VTIMEZONE
BEGIN:VEVENT
DTSTART;TZID=Europe/Zurich:20260328T083000
DTEND;TZID=Europe/Zurich:20260328T123000
DTSTAMP:20260421T112825
CREATED:20260217T220756Z
LAST-MODIFIED:20260217T220756Z
UID:10183-1774686600-1774701000@verts-seeland-bienne.ch
SUMMARY:Bourse aux vélos des VERT-E-S Anet
DESCRIPTION:
URL:https://verts-seeland-bienne.ch/event/bourse-aux-velos-des-vert-e-s-anet
LOCATION:Anet\, Ècole du village\, Dorfstrasse 11\, Anet\, 3232
CATEGORIES:Évènements
END:VEVENT
END:VCALENDAR